BEGIN:VCALENDAR
VERSION:2.0
PRODID:-//Tukios.com/
BEGIN:VEVENT
UID:7688fa00-6b48-4c60-af11-7c0579669b8c@www.sealefuneral.com
DTSTAMP:20260423T002818Z
DTSTART:20260502T150000Z
DTEND:20260502T170000Z
SUMMARY:Celebration of Life
DESCRIPTION:
URL:https://www.sealefuneral.com/obituaries/catherine-rando
LOCATION:Luke 10:27 536 Centerville  Denham Springs LA 70726
GEO:30.4864289;-90.9621743
END:VEVENT
END:VCALENDAR