BEGIN:VCALENDAR
VERSION:2.0
PRODID:-//Tukios.com/
BEGIN:VEVENT
UID:919929ed-8a72-4fb5-ad5e-05637f54c7ba@www.sealefuneral.com
DTSTAMP:20260423T002231Z
DTSTART:20260502T190000Z
DTEND:20260502T200000Z
SUMMARY:Burial
DESCRIPTION:
URL:https://www.sealefuneral.com/obituaries/catherine-rando
LOCATION:Greenoaks Memorial 9595 Florida Boulevard  Baton Rouge LA 70815
GEO:30.4558823;-91.0806918
END:VEVENT
END:VCALENDAR