BEGIN:VCALENDAR
VERSION:2.0
PRODID:-//Tukios.com/
BEGIN:VEVENT
UID:7051fde1-7e8c-4425-8de4-e8ab8c27e4e0@www.sealefuneral.com
DTSTAMP:20260421T215209Z
DTSTART:20260425T140000Z
DTEND:20260425T160000Z
SUMMARY:Visitation
DESCRIPTION:
URL:https://www.sealefuneral.com/obituaries/flora-montgomery
LOCATION:Seale Funeral Home 1720 South Range Avenue  Denham Springs LA 
	70726
GEO:30.4630377;-90.955897
END:VEVENT
END:VCALENDAR