BEGIN:VCALENDAR
VERSION:2.0
PRODID:-//Tukios.com/
BEGIN:VEVENT
UID:c2dc2730-7508-412e-b93d-b20f2afbea61@www.sealefuneral.com
DTSTAMP:20260421T215650Z
DTSTART:20260425T180000Z
DTEND:20260425T190000Z
SUMMARY:Graveside Service
DESCRIPTION:
URL:https://www.sealefuneral.com/obituaries/flora-montgomery
LOCATION:Creekside Cemetery 23170 Beechwood Drive  Loranger LA 70446
GEO:30.5642781;-90.3432831
END:VEVENT
END:VCALENDAR