BEGIN:VCALENDAR
VERSION:2.0
PRODID:-//Tukios.com/
BEGIN:VEVENT
UID:554c0718-b459-4209-8ae7-54f5e1af4492@www.sealefuneral.com
DTSTAMP:20260421T215835Z
DTSTART:20260425T160000Z
DTEND:20260425T170000Z
SUMMARY:Funeral Service
DESCRIPTION:
URL:https://www.sealefuneral.com/obituaries/flora-montgomery
LOCATION: 20335 Texas St  Livingston LA 70754
GEO:30.4964111;-90.7475656
END:VEVENT
END:VCALENDAR