BEGIN:VCALENDAR
VERSION:2.0
PRODID:-//Tukios.com/
BEGIN:VEVENT
UID:6f61c4d9-ea83-4ffe-8e9e-eb8b5249efb5@www.sealefuneral.com
DTSTAMP:20260424T204633Z
DTSTART:20260501T143000Z
DTEND:20260501T160000Z
SUMMARY:Visitation
DESCRIPTION:
URL:https://www.sealefuneral.com/obituaries/guadalupe-andrade
LOCATION: 206 Edgewood Dr  Denham Springs LA 70726
GEO:30.4740852;-90.9545434
END:VEVENT
END:VCALENDAR