BEGIN:VCALENDAR
VERSION:2.0
PRODID:-//Tukios.com/
BEGIN:VEVENT
UID:496fc5bb-ef50-4a0c-a6bc-21ed7af8924a@www.sealefuneral.com
DTSTAMP:20260424T205026Z
DTSTART:20260501T160000Z
DTEND:20260501T170000Z
SUMMARY:Memorial Service
DESCRIPTION:
URL:https://www.sealefuneral.com/obituaries/guadalupe-andrade
LOCATION: 206 Edgewood Dr  Denham Springs LA 70726
GEO:30.4740852;-90.9545434
END:VEVENT
END:VCALENDAR