BEGIN:VCALENDAR
VERSION:2.0
PRODID:-//Tukios.com/
BEGIN:VEVENT
UID:0d9d0865-62ce-4878-8390-bdc016c27e2e@www.sealefuneral.com
DTSTAMP:20260422T061337Z
DTSTART:20260424T140000Z
DTEND:20260424T160000Z
SUMMARY:Visitation
DESCRIPTION:
URL:https://www.sealefuneral.com/obituaries/loraine-dunkley
LOCATION:Seale Funeral Home 1720 South Range Avenue  Denham Springs LA 
	70726
GEO:30.4630377;-90.955897
END:VEVENT
END:VCALENDAR