BEGIN:VCALENDAR
VERSION:2.0
PRODID:-//Tukios.com/
BEGIN:VEVENT
UID:c52bdddb-5bac-4597-bcce-258ab60eebc0@www.sealefuneral.com
DTSTAMP:20260422T061336Z
DTSTART:20260424T160000Z
DTEND:20260424T170000Z
SUMMARY:Memorial Service
DESCRIPTION:
URL:https://www.sealefuneral.com/obituaries/loraine-dunkley
LOCATION:Seale Funeral Home 1720 South Range Avenue  Denham Springs LA 
	70726
GEO:30.4630377;-90.955897
END:VEVENT
END:VCALENDAR