BEGIN:VCALENDAR
VERSION:2.0
PRODID:-//Tukios.com/
BEGIN:VEVENT
UID:488a3d1f-d3ac-44bb-ab2f-07b2007e9d99@www.sealefuneral.com
DTSTAMP:20260424T233041Z
DTSTART:20260427T140000Z
DTEND:20260427T160000Z
SUMMARY:Visitation
DESCRIPTION:
URL:https://www.sealefuneral.com/obituaries/marcia-fauver
LOCATION:Seale Funeral Home 1720 South Range Avenue  Denham Springs LA 
	70726
GEO:30.4630377;-90.955897
END:VEVENT
END:VCALENDAR