BEGIN:VCALENDAR
VERSION:2.0
PRODID:-//Tukios.com/
BEGIN:VEVENT
UID:41ca1151-fbb1-4c5b-acce-3235bdd0a446@www.sealefuneral.com
DTSTAMP:20260424T232120Z
DTSTART:20260427T160000Z
DTEND:20260427T170000Z
SUMMARY:Funeral Service
DESCRIPTION:
URL:https://www.sealefuneral.com/obituaries/marcia-fauver
LOCATION:Seale Funeral Home 1720 South Range Avenue  Denham Springs LA 
	70726
GEO:30.4630377;-90.955897
END:VEVENT
END:VCALENDAR